BEGIN:VCALENDAR
VERSION:2.0
PRODID:-//Universidad Teológica Misionera - ECPv5.14.0.2//NONSGML v1.0//EN
CALSCALE:GREGORIAN
METHOD:PUBLISH
X-WR-CALNAME:Universidad Teológica Misionera
X-ORIGINAL-URL:https://utmpr.org
X-WR-CALDESC:Eventos para Universidad Teológica Misionera
REFRESH-INTERVAL;VALUE=DURATION:PT1H
X-Robots-Tag:noindex
X-PUBLISHED-TTL:PT1H
BEGIN:VTIMEZONE
TZID:America/Puerto_Rico
BEGIN:STANDARD
TZOFFSETFROM:-0400
TZOFFSETTO:-0400
TZNAME:AST
DTSTART:20220101T000000
END:STANDARD
END:VTIMEZONE
BEGIN:VEVENT
DTSTART;VALUE=DATE:20220516
DTEND;VALUE=DATE:20220517
DTSTAMP:20260425T155456
CREATED:20200706T200543Z
LAST-MODIFIED:20220102T012805Z
UID:6237-1652659200-1652745599@utmpr.org
SUMMARY:Último día de clases
DESCRIPTION:
URL:https://utmpr.org/event/ultimo-dia-de-clases/
END:VEVENT
END:VCALENDAR