BEGIN:VCALENDAR
VERSION:2.0
PRODID:-//Universidad Teológica Misionera - ECPv5.14.0.2//NONSGML v1.0//EN
CALSCALE:GREGORIAN
METHOD:PUBLISH
X-WR-CALNAME:Universidad Teológica Misionera
X-ORIGINAL-URL:https://utmpr.org
X-WR-CALDESC:Eventos para Universidad Teológica Misionera
REFRESH-INTERVAL;VALUE=DURATION:PT1H
X-Robots-Tag:noindex
X-PUBLISHED-TTL:PT1H
BEGIN:VTIMEZONE
TZID:America/Puerto_Rico
BEGIN:STANDARD
TZOFFSETFROM:-0400
TZOFFSETTO:-0400
TZNAME:AST
DTSTART:20220101T000000
END:STANDARD
END:VTIMEZONE
BEGIN:VEVENT
DTSTART;TZID=America/Puerto_Rico:20220813T150000
DTEND;TZID=America/Puerto_Rico:20220813T170000
DTSTAMP:20260421T045823
CREATED:20220716T151953Z
LAST-MODIFIED:20220716T151953Z
UID:6672-1660402800-1660410000@utmpr.org
SUMMARY:Open House 2022
DESCRIPTION:
URL:https://utmpr.org/event/open-house-2022/
END:VEVENT
BEGIN:VEVENT
DTSTART;VALUE=DATE:20220716
DTEND;VALUE=DATE:20220717
DTSTAMP:20260421T045823
CREATED:20220102T014124Z
LAST-MODIFIED:20220102T014124Z
UID:6656-1657929600-1658015999@utmpr.org
SUMMARY:Matricula Para Agosto 2022
DESCRIPTION:
URL:https://utmpr.org/event/matricula-para-agosto-2022/
END:VEVENT
BEGIN:VEVENT
DTSTART;VALUE=DATE:20220618
DTEND;VALUE=DATE:20220619
DTSTAMP:20260421T045823
CREATED:20220102T013744Z
LAST-MODIFIED:20220102T013819Z
UID:6650-1655510400-1655596799@utmpr.org
SUMMARY:Día de Graduación
DESCRIPTION:
URL:https://utmpr.org/event/dia-de-graduacion/
END:VEVENT
BEGIN:VEVENT
DTSTART;VALUE=DATE:20220516
DTEND;VALUE=DATE:20220517
DTSTAMP:20260421T045823
CREATED:20200706T200543Z
LAST-MODIFIED:20220102T012805Z
UID:6237-1652659200-1652745599@utmpr.org
SUMMARY:Último día de clases
DESCRIPTION:
URL:https://utmpr.org/event/ultimo-dia-de-clases/
END:VEVENT
BEGIN:VEVENT
DTSTART;VALUE=DATE:20220103
DTEND;VALUE=DATE:20220104
DTSTAMP:20260421T045823
CREATED:20200706T200424Z
LAST-MODIFIED:20220102T014848Z
UID:6233-1641168000-1641254399@utmpr.org
SUMMARY:Inicio de Clases
DESCRIPTION:
URL:https://utmpr.org/event/inicio-de-clases/
END:VEVENT
END:VCALENDAR