BEGIN:VCALENDAR
VERSION:2.0
PRODID:-//Universidad Teológica Misionera - ECPv5.14.0.2//NONSGML v1.0//EN
CALSCALE:GREGORIAN
METHOD:PUBLISH
X-WR-CALNAME:Universidad Teológica Misionera
X-ORIGINAL-URL:https://utmpr.org
X-WR-CALDESC:Eventos para Universidad Teológica Misionera
REFRESH-INTERVAL;VALUE=DURATION:PT1H
X-Robots-Tag:noindex
X-PUBLISHED-TTL:PT1H
BEGIN:VTIMEZONE
TZID:America/Puerto_Rico
BEGIN:STANDARD
TZOFFSETFROM:-0400
TZOFFSETTO:-0400
TZNAME:AST
DTSTART:20220101T000000
END:STANDARD
END:VTIMEZONE
BEGIN:VEVENT
DTSTART;TZID=America/Puerto_Rico:20220813T150000
DTEND;TZID=America/Puerto_Rico:20220813T170000
DTSTAMP:20260425T095217
CREATED:20220716T151953Z
LAST-MODIFIED:20220716T151953Z
UID:6672-1660402800-1660410000@utmpr.org
SUMMARY:Open House 2022
DESCRIPTION:
URL:https://utmpr.org/event/open-house-2022/
END:VEVENT
END:VCALENDAR